BEGIN:VCALENDAR
VERSION:2.0
PRODID:-//eventon.com NONSGML v1.0//EN
CALSCALE:GREGORIAN
METHOD:PUBLISH
BEGIN:VEVENT
UID:69e750b214565
DTSTAMP:20260421T122554
DTSTART:20260606T113500Z
DTEND:20260606T113500Z
TZID:UTC
LOCATION:
SUMMARY:1. SNTL MOŠKI - FINALE 3.T
DESCRIPTION:1. SNTL MOŠKI &#8211; FINALE 3.T\nhttps://ntzs.si/events/1-sntl-moski-finale-3-t/
URL:https://ntzs.si/events/1-sntl-moski-finale-3-t/
END:VEVENT
END:VCALENDAR