BEGIN:VCALENDAR
VERSION:2.0
PRODID:-//eventon.com NONSGML v1.0//EN
CALSCALE:GREGORIAN
METHOD:PUBLISH
BEGIN:VEVENT
UID:69e73b4f5697f
DTSTAMP:20260421T105439
DTSTART:20260509T111400Z
DTEND:20260509T111400Z
TZID:UTC
LOCATION:
SUMMARY:1 SNTL MOŠKI - 1/2F\,  Kval.: 2.T
DESCRIPTION:1 SNTL MOŠKI &#8211; 1/2F\,  Kval.: 2.T\nhttps://ntzs.si/events/1-sntl-moski-1-2f-kval-2-t/
URL:https://ntzs.si/events/1-sntl-moski-1-2f-kval-2-t/
END:VEVENT
END:VCALENDAR