BEGIN:VCALENDAR
VERSION:2.0
PRODID:-//eventon.com NONSGML v1.0//EN
CALSCALE:GREGORIAN
METHOD:PUBLISH
BEGIN:VEVENT
UID:69e74edc7fc62
DTSTAMP:20260421T121804
DTSTART:20251004T212000Z
DTEND:20251004T212000Z
TZID:UTC
LOCATION:
SUMMARY:3. SNTL MOŠKI – 1.K
DESCRIPTION:3. SNTL MOŠKI – 1.K\nhttps://ntzs.si/events/3-sntl-moski-1-k/
URL:https://ntzs.si/events/3-sntl-moski-1-k/
END:VEVENT
END:VCALENDAR