BEGIN:VCALENDAR
VERSION:2.0
PRODID:-//eventon.com NONSGML v1.0//EN
CALSCALE:GREGORIAN
METHOD:PUBLISH
BEGIN:VEVENT
UID:69e75209e3a60
DTSTAMP:20260421T123137
DTSTART:20250301T000000Z
DTEND:20250301T120000Z
TZID:UTC
LOCATION:
SUMMARY:4. SNTL - M: 10.k
DESCRIPTION:4. SNTL &#8211; M: 10.k\nhttps://ntzs.si/events/4-sntl-m-10-k/
URL:https://ntzs.si/events/4-sntl-m-10-k/
END:VEVENT
END:VCALENDAR