BEGIN:VCALENDAR
VERSION:2.0
PRODID:-//eventon.com NONSGML v1.0//EN
CALSCALE:GREGORIAN
METHOD:PUBLISH
BEGIN:VEVENT
UID:69e73b2d52af6
DTSTAMP:20260421T105405
DTSTART:20250524T080000Z
DTEND:20250524T200000Z
TZID:UTC
LOCATION:
SUMMARY:Logatec: 2. TOP 8 (Kad.)
DESCRIPTION:Logatec: 2. TOP 8 (Kad.)\nhttps://ntzs.si/events/logatec-2-top-8-kad/
URL:https://ntzs.si/events/logatec-2-top-8-kad/
END:VEVENT
END:VCALENDAR