BEGIN:VCALENDAR
VERSION:2.0
PRODID:-//eventon.com NONSGML v1.0//EN
CALSCALE:GREGORIAN
METHOD:PUBLISH
BEGIN:VEVENT
UID:69e73b4fa9b4d
DTSTAMP:20260421T105439
DTSTART:20250419T080000Z
DTEND:20250419T200000Z
TZID:Africa/Abidjan
LOCATION:
SUMMARY:4. SNTL - M: 12.k
DESCRIPTION:4. SNTL &#8211; M: 12.k\nhttps://ntzs.si/events/4-sntl-m-12-k/
URL:https://ntzs.si/events/4-sntl-m-12-k/
END:VEVENT
END:VCALENDAR